BEGIN:VCALENDAR
VERSION:2.0
PRODID:-//Tukios.com/
BEGIN:VEVENT
UID:8c01af2b-6734-4a9b-948c-1460e5d52ac3@www.thescfh.com
DTSTAMP:20260420T225921Z
DTSTART:20260422T150000Z
DTEND:20260422T160000Z
SUMMARY:Funeral Service
DESCRIPTION:
URL:https://www.thescfh.com/obituaries/martha-martin
LOCATION: 3147 Marietta Highway  Canton  30114
GEO:34.2048679;-84.5044332
END:VEVENT
END:VCALENDAR