BEGIN:VCALENDAR
VERSION:2.0
PRODID:-//Tukios.com/
BEGIN:VEVENT
UID:44c0c622-019a-4474-a7d9-2a3d3f4faf58@www.thescfh.com
DTSTAMP:20260420T230734Z
DTSTART:20260422T130000Z
DTEND:20260422T150000Z
SUMMARY:Visitation
DESCRIPTION:
URL:https://www.thescfh.com/obituaries/martha-martin
LOCATION: 3147 Marietta Hwy  Canton GA 30114
GEO:34.2048679;-84.5044332
END:VEVENT
END:VCALENDAR