BEGIN:VCALENDAR
VERSION:2.0
PRODID:-//Tukios.com/
BEGIN:VEVENT
UID:85b4a480-8330-4c2c-9959-b0283cdd580c@www.thescfh.com
DTSTAMP:20260420T225957Z
DTSTART:20260421T200000Z
DTEND:20260422T000000Z
SUMMARY:Visitation
DESCRIPTION:
URL:https://www.thescfh.com/obituaries/martha-martin
LOCATION: 3147 Marietta Hwy  Canton GA 30114
GEO:34.2048679;-84.5044332
END:VEVENT
END:VCALENDAR